BEGIN:VCALENDAR
VERSION:2.0
PRODID:-//Endorso//Watch Free Events//EN
CALSCALE:GREGORIAN
METHOD:PUBLISH
BEGIN:VEVENT
UID:bundesliga-dortmund-vs-leipzig-2026-05-02@endorso.com
DTSTAMP:20260422T045107Z
DTSTART:20260502T133000Z
DTEND:20260502T153000Z
SUMMARY:Borussia Dortmund vs RB Leipzig — Bundesliga (Watch Free with VPN)
DESCRIPTION:A battle for the top four in the Bundesliga. Dortmund's Yellow Wall will be rocking as they host a dangerous Leipzig side.\\n\\nFree on ARD Sportschau (Germany).\\n\\nFull guide: https://endorso.com/vpn/watch/bundesliga-dortmund-vs-leipzig-2026-05-02
URL:https://endorso.com/vpn/watch/bundesliga-dortmund-vs-leipzig-2026-05-02
LOCATION:https://endorso.com/vpn/watch/bundesliga-dortmund-vs-leipzig-2026-05-02
END:VEVENT
END:VCALENDAR