BEGIN:VCALENDAR
VERSION:2.0
PRODID:-//Endorso//Watch Free Events//EN
CALSCALE:GREGORIAN
METHOD:PUBLISH
BEGIN:VEVENT
UID:bundesliga-dortmund-vs-leipzig-2026-04-26@endorso.com
DTSTAMP:20260419T171343Z
DTSTART:20260426T143000Z
DTEND:20260426T163000Z
SUMMARY:Dortmund vs Leipzig — Bundesliga (Watch Free with VPN)
DESCRIPTION:Dortmund faces Leipzig in a key Bundesliga match. Both teams are competing for Champions League qualification\, adding extra importance to this game.\\n\\nFree on ZDF (Germany).\\n\\nFull guide: https://endorso.com/vpn/watch/bundesliga-dortmund-vs-leipzig-2026-04-26
URL:https://endorso.com/vpn/watch/bundesliga-dortmund-vs-leipzig-2026-04-26
LOCATION:https://endorso.com/vpn/watch/bundesliga-dortmund-vs-leipzig-2026-04-26
END:VEVENT
END:VCALENDAR