BEGIN:VCALENDAR
VERSION:2.0
PRODID:-//Endorso//Watch Free Events//EN
CALSCALE:GREGORIAN
METHOD:PUBLISH
BEGIN:VEVENT
UID:bundesliga-dortmund-vs-leipzig-2026-04-25@endorso.com
DTSTAMP:20260419T195459Z
DTSTART:20260425T183000Z
DTEND:20260425T203000Z
SUMMARY:Dortmund vs Leipzig — Bundesliga (Watch Free with VPN)
DESCRIPTION:A crucial Bundesliga match as Dortmund hosts Leipzig. Both teams are vying for Champions League qualification\, making this a high-stakes encounter.\\n\\nFree on ZDF (Germany).\\n\\nFull guide: https://endorso.com/vpn/watch/bundesliga-dortmund-vs-leipzig-2026-04-25
URL:https://endorso.com/vpn/watch/bundesliga-dortmund-vs-leipzig-2026-04-25
LOCATION:https://endorso.com/vpn/watch/bundesliga-dortmund-vs-leipzig-2026-04-25
END:VEVENT
END:VCALENDAR