BEGIN:VCALENDAR
VERSION:2.0
PRODID:-//Endorso//Watch Free Events//EN
CALSCALE:GREGORIAN
METHOD:PUBLISH
BEGIN:VEVENT
UID:bundesliga-borussia-dortmund-vs-rb-leipzig-2026-04-26@endorso.com
DTSTAMP:20260419T140833Z
DTSTART:20260426T163000Z
DTEND:20260426T183000Z
SUMMARY:Borussia Dortmund vs RB Leipzig — Bundesliga (Watch Free with VPN)
DESCRIPTION:A crucial Bundesliga match between Borussia Dortmund and RB Leipzig. Both teams are competing for Champions League spots\, making this a high-stakes encounter. Expect a fast-paced and attacking game.\\n\\nFree on ZDF (Germany).\\n\\nFull guide: https://endorso.com/vpn/watch/bundesliga-borussia-dortmund-vs-rb-leipzig-2026-04-26
URL:https://endorso.com/vpn/watch/bundesliga-borussia-dortmund-vs-rb-leipzig-2026-04-26
LOCATION:https://endorso.com/vpn/watch/bundesliga-borussia-dortmund-vs-rb-leipzig-2026-04-26
END:VEVENT
END:VCALENDAR