BEGIN:VCALENDAR
VERSION:2.0
PRODID:-//Endorso//Watch Free Events//EN
CALSCALE:GREGORIAN
METHOD:PUBLISH
BEGIN:VEVENT
UID:bundesliga-borussia-dortmund-vs-bayer-leverkusen-2026-05-02@endorso.com
DTSTAMP:20260425T204346Z
DTSTART:20260502T133000Z
DTEND:20260502T153000Z
SUMMARY:Borussia Dortmund vs Bayer Leverkusen — Bundesliga (Watch Free with VPN)
DESCRIPTION:Two of Germany's most exciting teams face off at Signal Iduna Park. Expect goals and high-tempo play in this Matchday 35 fixture.\\n\\nFree on ZDF Sport (Germany).\\n\\nFull guide: https://endorso.com/vpn/watch/bundesliga-borussia-dortmund-vs-bayer-leverkusen-2026-05-02
URL:https://endorso.com/vpn/watch/bundesliga-borussia-dortmund-vs-bayer-leverkusen-2026-05-02
LOCATION:https://endorso.com/vpn/watch/bundesliga-borussia-dortmund-vs-bayer-leverkusen-2026-05-02
END:VEVENT
END:VCALENDAR