BEGIN:VCALENDAR
VERSION:2.0
PRODID:-//Endorso//Watch Free Events//EN
CALSCALE:GREGORIAN
METHOD:PUBLISH
BEGIN:VEVENT
UID:bundesliga-bayern-munich-vs-wolfsburg-2026-05-03@endorso.com
DTSTAMP:20260419T171846Z
DTSTART:20260503T163000Z
DTEND:20260503T183000Z
SUMMARY:Bayern Munich vs Wolfsburg — Bundesliga (Watch Free with VPN)
DESCRIPTION:Bayern Munich takes on Wolfsburg in a Bundesliga clash. Bayern will look to secure their position at the top of the table.\\n\\nFree on ZDF (Germany).\\n\\nFull guide: https://endorso.com/vpn/watch/bundesliga-bayern-munich-vs-wolfsburg-2026-05-03
URL:https://endorso.com/vpn/watch/bundesliga-bayern-munich-vs-wolfsburg-2026-05-03
LOCATION:https://endorso.com/vpn/watch/bundesliga-bayern-munich-vs-wolfsburg-2026-05-03
END:VEVENT
END:VCALENDAR