BEGIN:VCALENDAR
VERSION:2.0
PRODID:-//Endorso//Watch Free Events//EN
CALSCALE:GREGORIAN
METHOD:PUBLISH
BEGIN:VEVENT
UID:bundesliga-bayern-munich-vs-stuttgart-2026-04-25@endorso.com
DTSTAMP:20260422T045241Z
DTSTART:20260425T133000Z
DTEND:20260425T153000Z
SUMMARY:Bayern Munich vs VfB Stuttgart — Bundesliga (Watch Free with VPN)
DESCRIPTION:Bayern Munich looks to secure their dominance at the Allianz Arena against a surging Stuttgart side. A high-scoring affair is anticipated.\\n\\nFree on ZDF Sport (Germany).\\n\\nFull guide: https://endorso.com/vpn/watch/bundesliga-bayern-munich-vs-stuttgart-2026-04-25
URL:https://endorso.com/vpn/watch/bundesliga-bayern-munich-vs-stuttgart-2026-04-25
LOCATION:https://endorso.com/vpn/watch/bundesliga-bayern-munich-vs-stuttgart-2026-04-25
END:VEVENT
END:VCALENDAR