BEGIN:VCALENDAR
VERSION:2.0
PRODID:-//Endorso//Watch Free Events//EN
CALSCALE:GREGORIAN
METHOD:PUBLISH
BEGIN:VEVENT
UID:bundesliga-bayern-munich-vs-rb-leipzig-2026-04-25@endorso.com
DTSTAMP:20260425T204314Z
DTSTART:20260425T133000Z
DTEND:20260425T153000Z
SUMMARY:Bayern Munich vs RB Leipzig — Bundesliga (Watch Free with VPN)
DESCRIPTION:A pivotal clash at the Allianz Arena as Bayern Munich hosts RB Leipzig in a battle for Champions League qualification spots. Expect high-intensity attacking football.\\n\\nFree on ZDF Sport (Germany).\\n\\nFull guide: https://endorso.com/vpn/watch/bundesliga-bayern-munich-vs-rb-leipzig-2026-04-25
URL:https://endorso.com/vpn/watch/bundesliga-bayern-munich-vs-rb-leipzig-2026-04-25
LOCATION:https://endorso.com/vpn/watch/bundesliga-bayern-munich-vs-rb-leipzig-2026-04-25
END:VEVENT
END:VCALENDAR