BEGIN:VCALENDAR
VERSION:2.0
PRODID:-//Endorso//Watch Free Events//EN
CALSCALE:GREGORIAN
METHOD:PUBLISH
BEGIN:VEVENT
UID:bundesliga-bayern-munich-vs-frankfurt-2026-05-02@endorso.com
DTSTAMP:20260419T195936Z
DTSTART:20260502T143000Z
DTEND:20260502T163000Z
SUMMARY:Bayern Munich vs Frankfurt — Bundesliga (Watch Free with VPN)
DESCRIPTION:Bayern Munich hosts Frankfurt in a Bundesliga clash. Bayern will aim to secure their position at the top\, while Frankfurt looks to challenge.\\n\\nFree on ZDF (Germany).\\n\\nFull guide: https://endorso.com/vpn/watch/bundesliga-bayern-munich-vs-frankfurt-2026-05-02
URL:https://endorso.com/vpn/watch/bundesliga-bayern-munich-vs-frankfurt-2026-05-02
LOCATION:https://endorso.com/vpn/watch/bundesliga-bayern-munich-vs-frankfurt-2026-05-02
END:VEVENT
END:VCALENDAR