BEGIN:VCALENDAR
VERSION:2.0
PRODID:-//Endorso//Watch Free Events//EN
CALSCALE:GREGORIAN
METHOD:PUBLISH
BEGIN:VEVENT
UID:bundesliga-bayern-munich-vs-dortmund-2026-04-19@endorso.com
DTSTAMP:20260419T171749Z
DTSTART:20260419T163000Z
DTEND:20260419T183000Z
SUMMARY:Bayern Munich vs Dortmund — Bundesliga (Watch Free with VPN)
DESCRIPTION:Der Klassiker! A clash of German titans. Bayern will look to assert their dominance\, while Dortmund aims to challenge for the title.\\n\\nFree on ZDF (Germany).\\n\\nFull guide: https://endorso.com/vpn/watch/bundesliga-bayern-munich-vs-dortmund-2026-04-19
URL:https://endorso.com/vpn/watch/bundesliga-bayern-munich-vs-dortmund-2026-04-19
LOCATION:https://endorso.com/vpn/watch/bundesliga-bayern-munich-vs-dortmund-2026-04-19
END:VEVENT
END:VCALENDAR