BEGIN:VCALENDAR
VERSION:2.0
PRODID:-//Endorso//Watch Free Events//EN
CALSCALE:GREGORIAN
METHOD:PUBLISH
BEGIN:VEVENT
UID:bundesliga-bayern-munich-vs-borussia-dortmund-2026-05-02@endorso.com
DTSTAMP:20260422T104513Z
DTSTART:20260502T133000Z
DTEND:20260502T153000Z
SUMMARY:Bayern Munich vs Borussia Dortmund — Bundesliga (Watch Free with VPN)
DESCRIPTION:Der Klassiker returns as the two giants of German football face off in a match that often decides the title race. Fans look for goals and high intensity.\\n\\nFree on ZDF (Germany).\\n\\nFull guide: https://endorso.com/vpn/watch/bundesliga-bayern-munich-vs-borussia-dortmund-2026-05-02
URL:https://endorso.com/vpn/watch/bundesliga-bayern-munich-vs-borussia-dortmund-2026-05-02
LOCATION:https://endorso.com/vpn/watch/bundesliga-bayern-munich-vs-borussia-dortmund-2026-05-02
END:VEVENT
END:VCALENDAR