BEGIN:VCALENDAR
VERSION:2.0
PRODID:-//Endorso//Watch Free Events//EN
CALSCALE:GREGORIAN
METHOD:PUBLISH
BEGIN:VEVENT
UID:bundesliga-bayern-munich-vs-borussia-dortmund-2026-04-25@endorso.com
DTSTAMP:20260421T195518Z
DTSTART:20260425T133000Z
DTEND:20260425T153000Z
SUMMARY:Bayern Munich vs Borussia Dortmund — Bundesliga (Watch Free with VPN)
DESCRIPTION:Der Klassiker. Germany's two most successful clubs meet in a match that often decides the fate of the Meisterschale.\\n\\nFree on ZDF Sport (Germany).\\n\\nFull guide: https://endorso.com/vpn/watch/bundesliga-bayern-munich-vs-borussia-dortmund-2026-04-25
URL:https://endorso.com/vpn/watch/bundesliga-bayern-munich-vs-borussia-dortmund-2026-04-25
LOCATION:https://endorso.com/vpn/watch/bundesliga-bayern-munich-vs-borussia-dortmund-2026-04-25
END:VEVENT
END:VCALENDAR