BEGIN:VCALENDAR
VERSION:2.0
PRODID:-//Endorso//Watch Free Events//EN
CALSCALE:GREGORIAN
METHOD:PUBLISH
BEGIN:VEVENT
UID:bundesliga-bayer-leverkusen-vs-rb-leipzig-2026-05-02@endorso.com
DTSTAMP:20260421T194258Z
DTSTART:20260502T133000Z
DTEND:20260502T153000Z
SUMMARY:Bayer Leverkusen vs RB Leipzig — Bundesliga (Watch Free with VPN)
DESCRIPTION:A clash of modern German powerhouses. Both teams are known for their attacking style and high-intensity football.\\n\\nFree on ZDF Sport (Germany).\\n\\nFull guide: https://endorso.com/vpn/watch/bundesliga-bayer-leverkusen-vs-rb-leipzig-2026-05-02
URL:https://endorso.com/vpn/watch/bundesliga-bayer-leverkusen-vs-rb-leipzig-2026-05-02
LOCATION:https://endorso.com/vpn/watch/bundesliga-bayer-leverkusen-vs-rb-leipzig-2026-05-02
END:VEVENT
END:VCALENDAR