BEGIN:VCALENDAR
VERSION:2.0
PRODID:-//Endorso//Watch Free Events//EN
CALSCALE:GREGORIAN
METHOD:PUBLISH
BEGIN:VEVENT
UID:bundesliga-bayer-leverkusen-vs-rb-leipzig-2026-04-25@endorso.com
DTSTAMP:20260422T163347Z
DTSTART:20260425T133000Z
DTEND:20260425T153000Z
SUMMARY:Bayer Leverkusen vs RB Leipzig — Bundesliga (Watch Free with VPN)
DESCRIPTION:Two of Germany's most modern and attacking sides face off. This fixture is crucial for the top-four standings in the Bundesliga.\\n\\nFree on ARD Sportschau (Germany).\\n\\nFull guide: https://endorso.com/vpn/watch/bundesliga-bayer-leverkusen-vs-rb-leipzig-2026-04-25
URL:https://endorso.com/vpn/watch/bundesliga-bayer-leverkusen-vs-rb-leipzig-2026-04-25
LOCATION:https://endorso.com/vpn/watch/bundesliga-bayer-leverkusen-vs-rb-leipzig-2026-04-25
END:VEVENT
END:VCALENDAR