BEGIN:VCALENDAR
VERSION:2.0
PRODID:-//Endorso//Watch Free Events//EN
CALSCALE:GREGORIAN
METHOD:PUBLISH
BEGIN:VEVENT
UID:brasileirao-round-6-atletico-mineiro-vs-sao-paulo-2026-05-03@endorso.com
DTSTAMP:20260420T112217Z
DTSTART:20260503T190000Z
DTEND:20260503T210000Z
SUMMARY:Atlético Mineiro vs São Paulo — Brasileirão Round 6 (Watch Free with VPN)
DESCRIPTION:Atlético Mineiro hosts São Paulo in a highly anticipated Brasileirão match. Both teams are expected to be title contenders this season.\\n\\nFree on TV Globo (Brazil).\\n\\nFull guide: https://endorso.com/vpn/watch/brasileirao-round-6-atletico-mineiro-vs-sao-paulo-2026-05-03
URL:https://endorso.com/vpn/watch/brasileirao-round-6-atletico-mineiro-vs-sao-paulo-2026-05-03
LOCATION:https://endorso.com/vpn/watch/brasileirao-round-6-atletico-mineiro-vs-sao-paulo-2026-05-03
END:VEVENT
END:VCALENDAR