BEGIN:VCALENDAR
VERSION:2.0
PRODID:-//Endorso//Watch Free Events//EN
CALSCALE:GREGORIAN
METHOD:PUBLISH
BEGIN:VEVENT
UID:brasileirao-round-5-flamengo-vs-palmeiras-2026-04-30@endorso.com
DTSTAMP:20260420T112049Z
DTSTART:20260430T230000Z
DTEND:20260501T010000Z
SUMMARY:Flamengo vs Palmeiras — Brasileirão Round 5 (Watch Free with VPN)
DESCRIPTION:A clash of titans in the Brasileirão. Flamengo hosts Palmeiras in a match that is expected to be a title decider.\\n\\nFree on TV Globo (Brazil).\\n\\nFull guide: https://endorso.com/vpn/watch/brasileirao-round-5-flamengo-vs-palmeiras-2026-04-30
URL:https://endorso.com/vpn/watch/brasileirao-round-5-flamengo-vs-palmeiras-2026-04-30
LOCATION:https://endorso.com/vpn/watch/brasileirao-round-5-flamengo-vs-palmeiras-2026-04-30
END:VEVENT
END:VCALENDAR