BEGIN:VCALENDAR
VERSION:2.0
PRODID:-//Endorso//Watch Free Events//EN
CALSCALE:GREGORIAN
METHOD:PUBLISH
BEGIN:VEVENT
UID:brasileirao-round-4-santos-vs-corinthians-2026-05-02@endorso.com
DTSTAMP:20260419T195645Z
DTSTART:20260502T230000Z
DTEND:20260503T010000Z
SUMMARY:Santos vs Corinthians — Brasileirão Round 4 (Watch Free with VPN)
DESCRIPTION:Brasileirão Round 4 match between Santos and Corinthians. A classic São Paulo derby\, with both teams looking to assert their dominance in the state and the league.\\n\\nFree on TV Globo (Brazil).\\n\\nFull guide: https://endorso.com/vpn/watch/brasileirao-round-4-santos-vs-corinthians-2026-05-02
URL:https://endorso.com/vpn/watch/brasileirao-round-4-santos-vs-corinthians-2026-05-02
LOCATION:https://endorso.com/vpn/watch/brasileirao-round-4-santos-vs-corinthians-2026-05-02
END:VEVENT
END:VCALENDAR