BEGIN:VCALENDAR
VERSION:2.0
PRODID:-//Endorso//Watch Free Events//EN
CALSCALE:GREGORIAN
METHOD:PUBLISH
BEGIN:VEVENT
UID:brasileirao-round-4-palmeiras-vs-corinthians-2026-04-27@endorso.com
DTSTAMP:20260420T111916Z
DTSTART:20260427T190000Z
DTEND:20260427T210000Z
SUMMARY:Palmeiras vs Corinthians — Brasileirão Round 4 (Watch Free with VPN)
DESCRIPTION:A São Paulo derby in the Brasileirão. Palmeiras and Corinthians face off in a match that is always highly anticipated.\\n\\nFree on TV Globo (Brazil).\\n\\nFull guide: https://endorso.com/vpn/watch/brasileirao-round-4-palmeiras-vs-corinthians-2026-04-27
URL:https://endorso.com/vpn/watch/brasileirao-round-4-palmeiras-vs-corinthians-2026-04-27
LOCATION:https://endorso.com/vpn/watch/brasileirao-round-4-palmeiras-vs-corinthians-2026-04-27
END:VEVENT
END:VCALENDAR