BEGIN:VCALENDAR
VERSION:2.0
PRODID:-//Endorso//Watch Free Events//EN
CALSCALE:GREGORIAN
METHOD:PUBLISH
BEGIN:VEVENT
UID:brasileirao-round-3-fluminense-vs-palmeiras-2026-04-25@endorso.com
DTSTAMP:20260419T171718Z
DTSTART:20260425T230000Z
DTEND:20260426T010000Z
SUMMARY:Fluminense vs Palmeiras — Brasileirão Round 3 (Watch Free with VPN)
DESCRIPTION:Brasileirão Round 3 match between Fluminense and Palmeiras. Two of Brazil's top teams clash in an early-season encounter\, with both sides eager to secure valuable points.\\n\\nFree on TV Globo (Brazil).\\n\\nFull guide: https://endorso.com/vpn/watch/brasileirao-round-3-fluminense-vs-palmeiras-2026-04-25
URL:https://endorso.com/vpn/watch/brasileirao-round-3-fluminense-vs-palmeiras-2026-04-25
LOCATION:https://endorso.com/vpn/watch/brasileirao-round-3-fluminense-vs-palmeiras-2026-04-25
END:VEVENT
END:VCALENDAR