BEGIN:VCALENDAR
VERSION:2.0
PRODID:-//Endorso//Watch Free Events//EN
CALSCALE:GREGORIAN
METHOD:PUBLISH
BEGIN:VEVENT
UID:brasileirao-round-3-fluminense-vs-atletico-mineiro-2026-04-27@endorso.com
DTSTAMP:20260419T140535Z
DTSTART:20260427T190000Z
DTEND:20260427T210000Z
SUMMARY:Fluminense vs Atlético Mineiro — Brasileirão Round 3 (Watch Free with VPN)
DESCRIPTION:Brasileirão match between Fluminense and Atlético Mineiro. A clash between two of Brazil's top teams\, both aiming for a strong start to the season.\\n\\nFree on TV Globo (Brazil).\\n\\nFull guide: https://endorso.com/vpn/watch/brasileirao-round-3-fluminense-vs-atletico-mineiro-2026-04-27
URL:https://endorso.com/vpn/watch/brasileirao-round-3-fluminense-vs-atletico-mineiro-2026-04-27
LOCATION:https://endorso.com/vpn/watch/brasileirao-round-3-fluminense-vs-atletico-mineiro-2026-04-27
END:VEVENT
END:VCALENDAR