BEGIN:VCALENDAR
VERSION:2.0
PRODID:-//Endorso//Watch Free Events//EN
CALSCALE:GREGORIAN
METHOD:PUBLISH
BEGIN:VEVENT
UID:brasileirao-round-3-fluminense-vs-atletico-mineiro-2026-04-23@endorso.com
DTSTAMP:20260420T111808Z
DTSTART:20260423T230000Z
DTEND:20260424T010000Z
SUMMARY:Fluminense vs Atlético Mineiro — Brasileirão Round 3 (Watch Free with VPN)
DESCRIPTION:Fluminense hosts Atlético Mineiro in a highly anticipated Brasileirão match. Both teams are expected to be title contenders this season.\\n\\nFree on TV Globo (Brazil).\\n\\nFull guide: https://endorso.com/vpn/watch/brasileirao-round-3-fluminense-vs-atletico-mineiro-2026-04-23
URL:https://endorso.com/vpn/watch/brasileirao-round-3-fluminense-vs-atletico-mineiro-2026-04-23
LOCATION:https://endorso.com/vpn/watch/brasileirao-round-3-fluminense-vs-atletico-mineiro-2026-04-23
END:VEVENT
END:VCALENDAR