BEGIN:VCALENDAR
VERSION:2.0
PRODID:-//Endorso//Watch Free Events//EN
CALSCALE:GREGORIAN
METHOD:PUBLISH
BEGIN:VEVENT
UID:brasileirao-palmeiras-vs-sao-paulo-2026-04-26@endorso.com
DTSTAMP:20260422T045420Z
DTSTART:20260426T190000Z
DTEND:20260426T210000Z
SUMMARY:Palmeiras vs São Paulo — Brasileirão (Watch Free with VPN)
DESCRIPTION:The Choque-Rei derby. Palmeiras hosts their city rivals in a match that could define the early leaders of the 2026 Brazilian championship.\\n\\nFree on TV Globo (Brazil).\\n\\nFull guide: https://endorso.com/vpn/watch/brasileirao-palmeiras-vs-sao-paulo-2026-04-26
URL:https://endorso.com/vpn/watch/brasileirao-palmeiras-vs-sao-paulo-2026-04-26
LOCATION:https://endorso.com/vpn/watch/brasileirao-palmeiras-vs-sao-paulo-2026-04-26
END:VEVENT
END:VCALENDAR