BEGIN:VCALENDAR
VERSION:2.0
PRODID:-//Endorso//Watch Free Events//EN
CALSCALE:GREGORIAN
METHOD:PUBLISH
BEGIN:VEVENT
UID:brasileirao-flamengo-vs-palmeiras-2026-04-26@endorso.com
DTSTAMP:20260425T040826Z
DTSTART:20260426T190000Z
DTEND:20260426T210000Z
SUMMARY:Flamengo vs Palmeiras — Brasileirão Serie A (Watch Free with VPN)
DESCRIPTION:A battle between the two most successful Brazilian clubs of the last decade. This Round 3 matchup is a preview of potential title contenders.\\n\\nFree on TV Globo (Brazil).\\n\\nFull guide: https://endorso.com/vpn/watch/brasileirao-flamengo-vs-palmeiras-2026-04-26
URL:https://endorso.com/vpn/watch/brasileirao-flamengo-vs-palmeiras-2026-04-26
LOCATION:https://endorso.com/vpn/watch/brasileirao-flamengo-vs-palmeiras-2026-04-26
END:VEVENT
END:VCALENDAR