BEGIN:VCALENDAR
VERSION:2.0
PRODID:-//Endorso//Watch Free Events//EN
CALSCALE:GREGORIAN
METHOD:PUBLISH
BEGIN:VEVENT
UID:brasileirao-flamengo-vs-palmeiras-2026-04-25@endorso.com
DTSTAMP:20260424T191711Z
DTSTART:20260425T190000Z
DTEND:20260425T210000Z
SUMMARY:Flamengo vs Palmeiras — Brasileirão Série A (Watch Free with VPN)
DESCRIPTION:A clash between the two most successful Brazilian clubs of the last decade. This Round 3 fixture is a direct battle for the top of the table.\\n\\nFree on TV Globo (Brazil).\\n\\nFull guide: https://endorso.com/vpn/watch/brasileirao-flamengo-vs-palmeiras-2026-04-25
URL:https://endorso.com/vpn/watch/brasileirao-flamengo-vs-palmeiras-2026-04-25
LOCATION:https://endorso.com/vpn/watch/brasileirao-flamengo-vs-palmeiras-2026-04-25
END:VEVENT
END:VCALENDAR