BEGIN:VCALENDAR
VERSION:2.0
PRODID:-//Endorso//Watch Free Events//EN
CALSCALE:GREGORIAN
METHOD:PUBLISH
BEGIN:VEVENT
UID:brasileirao-corinthians-vs-sao-paulo-2026-05-03@endorso.com
DTSTAMP:20260424T191327Z
DTSTART:20260503T190000Z
DTEND:20260503T210000Z
SUMMARY:Corinthians vs São Paulo — Brasileirão Série A (Watch Free with VPN)
DESCRIPTION:The 'Majestoso' derby. One of Brazil's most intense rivalries takes place at the Neo Química Arena in Round 5.\\n\\nFree on TV Globo (Brazil).\\n\\nFull guide: https://endorso.com/vpn/watch/brasileirao-corinthians-vs-sao-paulo-2026-05-03
URL:https://endorso.com/vpn/watch/brasileirao-corinthians-vs-sao-paulo-2026-05-03
LOCATION:https://endorso.com/vpn/watch/brasileirao-corinthians-vs-sao-paulo-2026-05-03
END:VEVENT
END:VCALENDAR