BEGIN:VCALENDAR
VERSION:2.0
PRODID:-//Endorso//Watch Free Events//EN
CALSCALE:GREGORIAN
METHOD:PUBLISH
BEGIN:VEVENT
UID:boxing-matchroom-edwards-vs-yafai-2026-05-02@endorso.com
DTSTAMP:20260424T181902Z
DTSTART:20260502T210000Z
DTEND:20260502T230000Z
SUMMARY:Sunny Edwards vs. Galal Yafai — Matchroom Boxing (Watch Free with VPN)
DESCRIPTION:An all-British flyweight world title clash. Speed vs. Olympic pedigree in a highly anticipated technical battle.\\n\\nFree on YouTube (UK).\\n\\nFull guide: https://endorso.com/vpn/watch/boxing-matchroom-edwards-vs-yafai-2026-05-02
URL:https://endorso.com/vpn/watch/boxing-matchroom-edwards-vs-yafai-2026-05-02
LOCATION:https://endorso.com/vpn/watch/boxing-matchroom-edwards-vs-yafai-2026-05-02
END:VEVENT
END:VCALENDAR