BEGIN:VCALENDAR
VERSION:2.0
PRODID:-//Endorso//Watch Free Events//EN
CALSCALE:GREGORIAN
METHOD:PUBLISH
BEGIN:VEVENT
UID:boxing-matchroom-canelo-vs-berlanga-2026-05-03@endorso.com
DTSTAMP:20260421T193036Z
DTSTART:20260504T030000Z
DTEND:20260504T050000Z
SUMMARY:Canelo Alvarez vs. Edgar Berlanga — Super Middleweight Title (Watch Free with VPN)
DESCRIPTION:Cinco de Mayo weekend blockbuster. Canelo defends his undisputed status against the hard-hitting Puerto Rican challenger.\\n\\nFree on Azteca 7 (Mexico).\\n\\nFull guide: https://endorso.com/vpn/watch/boxing-matchroom-canelo-vs-berlanga-2026-05-03
URL:https://endorso.com/vpn/watch/boxing-matchroom-canelo-vs-berlanga-2026-05-03
LOCATION:https://endorso.com/vpn/watch/boxing-matchroom-canelo-vs-berlanga-2026-05-03
END:VEVENT
END:VCALENDAR