BEGIN:VCALENDAR
VERSION:2.0
PRODID:-//Endorso//Watch Free Events//EN
CALSCALE:GREGORIAN
METHOD:PUBLISH
BEGIN:VEVENT
UID:boxing-canelo-alvarez-vs-tba-2026-05-02@endorso.com
DTSTAMP:20260422T105301Z
DTSTART:20260503T030000Z
DTEND:20260503T050000Z
SUMMARY:Canelo Alvarez vs. TBA — PBC Championship Boxing (Watch Free with VPN)
DESCRIPTION:The traditional Cinco de Mayo weekend blockbuster. Canelo defends his super-middleweight titles.\\n\\nFree on Azteca 7 (Mexico).\\n\\nFull guide: https://endorso.com/vpn/watch/boxing-canelo-alvarez-vs-tba-2026-05-02
URL:https://endorso.com/vpn/watch/boxing-canelo-alvarez-vs-tba-2026-05-02
LOCATION:https://endorso.com/vpn/watch/boxing-canelo-alvarez-vs-tba-2026-05-02
END:VEVENT
END:VCALENDAR