BEGIN:VCALENDAR
VERSION:2.0
PRODID:-//Endorso//Watch Free Events//EN
CALSCALE:GREGORIAN
METHOD:PUBLISH
BEGIN:VEVENT
UID:atp-wta-tournament-semifinals-2026-05-01@endorso.com
DTSTAMP:20260419T172025Z
DTSTART:20260501T140000Z
DTEND:20260501T160000Z
SUMMARY:ATP/WTA Tournament Semifinals (Watch Free with VPN)
DESCRIPTION:Semifinal matches from the ongoing ATP and WTA tournaments. Witness the top contenders as they compete for a spot in the finals.\\n\\nFree on CT Sport (Czech Republic).\\n\\nFull guide: https://endorso.com/vpn/watch/atp-wta-tournament-semifinals-2026-05-01
URL:https://endorso.com/vpn/watch/atp-wta-tournament-semifinals-2026-05-01
LOCATION:https://endorso.com/vpn/watch/atp-wta-tournament-semifinals-2026-05-01
END:VEVENT
END:VCALENDAR