BEGIN:VCALENDAR
VERSION:2.0
PRODID:-//Endorso//Watch Free Events//EN
CALSCALE:GREGORIAN
METHOD:PUBLISH
BEGIN:VEVENT
UID:atp-wta-tournament-quarterfinals-2026-04-29@endorso.com
DTSTAMP:20260419T171528Z
DTSTART:20260429T120000Z
DTEND:20260429T140000Z
SUMMARY:ATP/WTA Tournament Quarterfinals (Watch Free with VPN)
DESCRIPTION:Quarterfinal matches from the ongoing ATP and WTA tournaments. Watch top players battle for a spot in the semifinals.\\n\\nFree on CT Sport (Czech Republic).\\n\\nFull guide: https://endorso.com/vpn/watch/atp-wta-tournament-quarterfinals-2026-04-29
URL:https://endorso.com/vpn/watch/atp-wta-tournament-quarterfinals-2026-04-29
LOCATION:https://endorso.com/vpn/watch/atp-wta-tournament-quarterfinals-2026-04-29
END:VEVENT
END:VCALENDAR