BEGIN:VCALENDAR
VERSION:2.0
PRODID:-//Endorso//Watch Free Events//EN
CALSCALE:GREGORIAN
METHOD:PUBLISH
BEGIN:VEVENT
UID:atp-wta-tournament-finals-2026-05-03@endorso.com
DTSTAMP:20260419T140414Z
DTSTART:20260503T140000Z
DTEND:20260503T160000Z
SUMMARY:ATP/WTA Tournament Finals (Watch Free with VPN)
DESCRIPTION:Finals matches from the ongoing ATP and WTA tournaments. See who will be crowned champion as the top players battle it out for the title.\\n\\nFree on CT Sport (Czech Republic).\\n\\nFull guide: https://endorso.com/vpn/watch/atp-wta-tournament-finals-2026-05-03
URL:https://endorso.com/vpn/watch/atp-wta-tournament-finals-2026-05-03
LOCATION:https://endorso.com/vpn/watch/atp-wta-tournament-finals-2026-05-03
END:VEVENT
END:VCALENDAR