BEGIN:VCALENDAR
VERSION:2.0
PRODID:-//Endorso//Watch Free Events//EN
CALSCALE:GREGORIAN
METHOD:PUBLISH
BEGIN:VEVENT
UID:atp-madrid-open-semifinal-jannik-sinner-vs-tbd-2026-05-08@endorso.com
DTSTAMP:20260425T155527Z
DTSTART:20260508T140000Z
DTEND:20260508T160000Z
SUMMARY:Jannik Sinner vs TBD — ATP Madrid Open Semifinal (Watch Free with VPN)
DESCRIPTION:World Number 1 Jannik Sinner looks to secure his place in the Madrid final in this high-stakes clay court semifinal.\\n\\nFree on RAI Play (Italy).\\n\\nFull guide: https://endorso.com/vpn/watch/atp-madrid-open-semifinal-jannik-sinner-vs-tbd-2026-05-08
URL:https://endorso.com/vpn/watch/atp-madrid-open-semifinal-jannik-sinner-vs-tbd-2026-05-08
LOCATION:https://endorso.com/vpn/watch/atp-madrid-open-semifinal-jannik-sinner-vs-tbd-2026-05-08
END:VEVENT
END:VCALENDAR