BEGIN:VCALENDAR
VERSION:2.0
PRODID:-//Endorso//Watch Free Events//EN
CALSCALE:GREGORIAN
METHOD:PUBLISH
BEGIN:VEVENT
UID:atp-madrid-open-semi-final-novak-djokovic-vs-alexander-zverev-2026-05-01@endorso.com
DTSTAMP:20260425T210607Z
DTSTART:20260501T180000Z
DTEND:20260501T200000Z
SUMMARY:Novak Djokovic vs Alexander Zverev — ATP Madrid Open SF (Watch Free with VPN)
DESCRIPTION:The legendary Djokovic faces the clay-court specialist Zverev for a spot in the Madrid final. Expect a tactical battle on the high-altitude clay.\\n\\nFree on ServusTV (Austria).\\n\\nFull guide: https://endorso.com/vpn/watch/atp-madrid-open-semi-final-novak-djokovic-vs-alexander-zverev-2026-05-01
URL:https://endorso.com/vpn/watch/atp-madrid-open-semi-final-novak-djokovic-vs-alexander-zverev-2026-05-01
LOCATION:https://endorso.com/vpn/watch/atp-madrid-open-semi-final-novak-djokovic-vs-alexander-zverev-2026-05-01
END:VEVENT
END:VCALENDAR