BEGIN:VCALENDAR
VERSION:2.0
PRODID:-//Endorso//Watch Free Events//EN
CALSCALE:GREGORIAN
METHOD:PUBLISH
BEGIN:VEVENT
UID:atp-madrid-open-semi-final-djokovic-vs-zverev-2026-05-02@endorso.com
DTSTAMP:20260421T193107Z
DTSTART:20260502T140000Z
DTEND:20260502T160000Z
SUMMARY:Novak Djokovic vs Alexander Zverev — ATP Madrid Open SF (Watch Free with VPN)
DESCRIPTION:The world number one faces the clay-court specialist Zverev in a high-stakes semi-final. Fans are eager to see if Djokovic can reach another Madrid final.\\n\\nFree on ServusTV (Austria).\\n\\nFull guide: https://endorso.com/vpn/watch/atp-madrid-open-semi-final-djokovic-vs-zverev-2026-05-02
URL:https://endorso.com/vpn/watch/atp-madrid-open-semi-final-djokovic-vs-zverev-2026-05-02
LOCATION:https://endorso.com/vpn/watch/atp-madrid-open-semi-final-djokovic-vs-zverev-2026-05-02
END:VEVENT
END:VCALENDAR