BEGIN:VCALENDAR
VERSION:2.0
PRODID:-//Endorso//Watch Free Events//EN
CALSCALE:GREGORIAN
METHOD:PUBLISH
BEGIN:VEVENT
UID:atp-madrid-open-round-of-64-2026-04-22@endorso.com
DTSTAMP:20260422T164815Z
DTSTART:20260422T100000Z
DTEND:20260422T120000Z
SUMMARY:ATP Madrid Open: Round of 64 — Carlos Alcaraz vs Qualifier (Watch Free with VPN)
DESCRIPTION:The Mutua Madrid Open kicks off its main draw action on the clay courts of the Caja Magica. Local hero Carlos Alcaraz begins his campaign to reclaim the title in front of a home crowd.\\n\\nFree on RTVE Play (Spain).\\n\\nFull guide: https://endorso.com/vpn/watch/atp-madrid-open-round-of-64-2026-04-22
URL:https://endorso.com/vpn/watch/atp-madrid-open-round-of-64-2026-04-22
LOCATION:https://endorso.com/vpn/watch/atp-madrid-open-round-of-64-2026-04-22
END:VEVENT
END:VCALENDAR