BEGIN:VCALENDAR
VERSION:2.0
PRODID:-//Endorso//Watch Free Events//EN
CALSCALE:GREGORIAN
METHOD:PUBLISH
BEGIN:VEVENT
UID:atp-madrid-open-round-of-32-alcaraz-vs-tbd-2026-04-26@endorso.com
DTSTAMP:20260425T160958Z
DTSTART:20260426T140000Z
DTEND:20260426T160000Z
SUMMARY:Carlos Alcaraz vs TBD — ATP Madrid Open Round of 32 (Watch Free with VPN)
DESCRIPTION:The Mutua Madrid Open continues with home favorite Carlos Alcaraz seeking to advance on the clay courts of the Caja Mágica.\\n\\nFree on RTVE Play (Spain).\\n\\nFull guide: https://endorso.com/vpn/watch/atp-madrid-open-round-of-32-alcaraz-vs-tbd-2026-04-26
URL:https://endorso.com/vpn/watch/atp-madrid-open-round-of-32-alcaraz-vs-tbd-2026-04-26
LOCATION:https://endorso.com/vpn/watch/atp-madrid-open-round-of-32-alcaraz-vs-tbd-2026-04-26
END:VEVENT
END:VCALENDAR