BEGIN:VCALENDAR
VERSION:2.0
PRODID:-//Endorso//Watch Free Events//EN
CALSCALE:GREGORIAN
METHOD:PUBLISH
BEGIN:VEVENT
UID:atp-madrid-open-round-1-2026-04-22@endorso.com
DTSTAMP:20260422T104658Z
DTSTART:20260422T090000Z
DTEND:20260422T110000Z
SUMMARY:ATP Madrid Open — Round 1 (Watch Free with VPN)
DESCRIPTION:The Mutua Madrid Open begins its main draw action on the clay of Caja Mágica. Top-ranked players battle for early momentum in this crucial ATP Masters 1000 event.\\n\\nFree on RTVE Play (Spain).\\n\\nFull guide: https://endorso.com/vpn/watch/atp-madrid-open-round-1-2026-04-22
URL:https://endorso.com/vpn/watch/atp-madrid-open-round-1-2026-04-22
LOCATION:https://endorso.com/vpn/watch/atp-madrid-open-round-1-2026-04-22
END:VEVENT
END:VCALENDAR