BEGIN:VCALENDAR
VERSION:2.0
PRODID:-//Endorso//Watch Free Events//EN
CALSCALE:GREGORIAN
METHOD:PUBLISH
BEGIN:VEVENT
UID:atp-madrid-open-quarterfinals-carlos-alcaraz-vs-jannik-sinner-2026-04-29@endorso.com
DTSTAMP:20260422T105126Z
DTSTART:20260429T180000Z
DTEND:20260429T200000Z
SUMMARY:Carlos Alcaraz vs Jannik Sinner — ATP Madrid QF (Watch Free with VPN)
DESCRIPTION:A potential blockbuster quarterfinal between two of the sport's brightest stars. The Madrid crowd will be firmly behind home favorite Alcaraz.\\n\\nFree on La 1 (Spain).\\n\\nFull guide: https://endorso.com/vpn/watch/atp-madrid-open-quarterfinals-carlos-alcaraz-vs-jannik-sinner-2026-04-29
URL:https://endorso.com/vpn/watch/atp-madrid-open-quarterfinals-carlos-alcaraz-vs-jannik-sinner-2026-04-29
LOCATION:https://endorso.com/vpn/watch/atp-madrid-open-quarterfinals-carlos-alcaraz-vs-jannik-sinner-2026-04-29
END:VEVENT
END:VCALENDAR