BEGIN:VCALENDAR
VERSION:2.0
PRODID:-//Endorso//Watch Free Events//EN
CALSCALE:GREGORIAN
METHOD:PUBLISH
BEGIN:VEVENT
UID:atp-madrid-open-quarter-finals-2026-04-30@endorso.com
DTSTAMP:20260422T165206Z
DTSTART:20260430T140000Z
DTEND:20260430T160000Z
SUMMARY:ATP Madrid Open: Quarter-Finals — Jannik Sinner vs TBD (Watch Free with VPN)
DESCRIPTION:The business end of the Madrid Open begins. World number one Jannik Sinner is expected to feature in this high-intensity clay court battle.\\n\\nFree on RAI Play (Italy).\\n\\nFull guide: https://endorso.com/vpn/watch/atp-madrid-open-quarter-finals-2026-04-30
URL:https://endorso.com/vpn/watch/atp-madrid-open-quarter-finals-2026-04-30
LOCATION:https://endorso.com/vpn/watch/atp-madrid-open-quarter-finals-2026-04-30
END:VEVENT
END:VCALENDAR