BEGIN:VCALENDAR
VERSION:2.0
PRODID:-//Endorso//Watch Free Events//EN
CALSCALE:GREGORIAN
METHOD:PUBLISH
BEGIN:VEVENT
UID:atp-madrid-open-quarter-finals-2026-04-29@endorso.com
DTSTAMP:20260424T181523Z
DTSTART:20260429T110000Z
DTEND:20260429T130000Z
SUMMARY:ATP Madrid Open — Quarter-Finals (Watch Free with VPN)
DESCRIPTION:The Mutua Madrid Open reaches the business end as the world's top seeds battle on the clay of the Caja Mágica. Fans are looking for Carlos Alcaraz and Jannik Sinner to secure their spots in the final four.\\n\\nFree on RTVE Play (Spain).\\n\\nFull guide: https://endorso.com/vpn/watch/atp-madrid-open-quarter-finals-2026-04-29
URL:https://endorso.com/vpn/watch/atp-madrid-open-quarter-finals-2026-04-29
LOCATION:https://endorso.com/vpn/watch/atp-madrid-open-quarter-finals-2026-04-29
END:VEVENT
END:VCALENDAR