BEGIN:VCALENDAR
VERSION:2.0
PRODID:-//Endorso//Watch Free Events//EN
CALSCALE:GREGORIAN
METHOD:PUBLISH
BEGIN:VEVENT
UID:atp-madrid-open-quarter-final-alcaraz-vs-sinner-2026-05-01@endorso.com
DTSTAMP:20260425T104912Z
DTSTART:20260501T140000Z
DTEND:20260501T160000Z
SUMMARY:Carlos Alcaraz vs Jannik Sinner — ATP Madrid Open QF (Watch Free with VPN)
DESCRIPTION:A blockbuster quarter-final clash at the Mutua Madrid Open between the two brightest stars in tennis. High-altitude clay conditions favor aggressive baseline play.\\n\\nFree on RTVE Play (Spain).\\n\\nFull guide: https://endorso.com/vpn/watch/atp-madrid-open-quarter-final-alcaraz-vs-sinner-2026-05-01
URL:https://endorso.com/vpn/watch/atp-madrid-open-quarter-final-alcaraz-vs-sinner-2026-05-01
LOCATION:https://endorso.com/vpn/watch/atp-madrid-open-quarter-final-alcaraz-vs-sinner-2026-05-01
END:VEVENT
END:VCALENDAR