BEGIN:VCALENDAR
VERSION:2.0
PRODID:-//Endorso//Watch Free Events//EN
CALSCALE:GREGORIAN
METHOD:PUBLISH
BEGIN:VEVENT
UID:atp-madrid-open-quarter-final-alcaraz-vs-sinner-2026-04-30@endorso.com
DTSTAMP:20260421T192829Z
DTSTART:20260430T140000Z
DTEND:20260430T160000Z
SUMMARY:Carlos Alcaraz vs Jannik Sinner — ATP Madrid Open QF (Watch Free with VPN)
DESCRIPTION:A blockbuster quarter-final clash at the Mutua Madrid Open featuring two of the world's top young talents. Fans are searching for this clay-court masterclass as they vie for a semi-final spot.\\n\\nFree on RTVE Play (Spain).\\n\\nFull guide: https://endorso.com/vpn/watch/atp-madrid-open-quarter-final-alcaraz-vs-sinner-2026-04-30
URL:https://endorso.com/vpn/watch/atp-madrid-open-quarter-final-alcaraz-vs-sinner-2026-04-30
LOCATION:https://endorso.com/vpn/watch/atp-madrid-open-quarter-final-alcaraz-vs-sinner-2026-04-30
END:VEVENT
END:VCALENDAR