BEGIN:VCALENDAR
VERSION:2.0
PRODID:-//Endorso//Watch Free Events//EN
CALSCALE:GREGORIAN
METHOD:PUBLISH
BEGIN:VEVENT
UID:atp-madrid-open-final-djokovic-vs-alcaraz-2026-05-09@endorso.com
DTSTAMP:20260425T104626Z
DTSTART:20260509T163000Z
DTEND:20260509T183000Z
SUMMARY:Novak Djokovic vs Carlos Alcaraz — ATP Madrid Open Final (Watch Free with VPN)
DESCRIPTION:The master vs the apprentice. Djokovic seeks to extend his record while Alcaraz looks to defend his home turf in the Madrid final.\\n\\nFree on RTVE La 1 (Spain).\\n\\nFull guide: https://endorso.com/vpn/watch/atp-madrid-open-final-djokovic-vs-alcaraz-2026-05-09
URL:https://endorso.com/vpn/watch/atp-madrid-open-final-djokovic-vs-alcaraz-2026-05-09
LOCATION:https://endorso.com/vpn/watch/atp-madrid-open-final-djokovic-vs-alcaraz-2026-05-09
END:VEVENT
END:VCALENDAR