BEGIN:VCALENDAR
VERSION:2.0
PRODID:-//Endorso//Watch Free Events//EN
CALSCALE:GREGORIAN
METHOD:PUBLISH
BEGIN:VEVENT
UID:atp-madrid-open-final-djokovic-vs-alcaraz-2026-05-04@endorso.com
DTSTAMP:20260422T045242Z
DTSTART:20260504T163000Z
DTEND:20260504T183000Z
SUMMARY:Novak Djokovic vs Carlos Alcaraz — ATP Madrid Open Final (Watch Free with VPN)
DESCRIPTION:The ultimate showdown on the clay of Madrid. The veteran legend Djokovic takes on the home favorite Alcaraz for the Masters 1000 title.\\n\\nFree on RTVE La 1 (Spain).\\n\\nFull guide: https://endorso.com/vpn/watch/atp-madrid-open-final-djokovic-vs-alcaraz-2026-05-04
URL:https://endorso.com/vpn/watch/atp-madrid-open-final-djokovic-vs-alcaraz-2026-05-04
LOCATION:https://endorso.com/vpn/watch/atp-madrid-open-final-djokovic-vs-alcaraz-2026-05-04
END:VEVENT
END:VCALENDAR