BEGIN:VCALENDAR
VERSION:2.0
PRODID:-//Endorso//Watch Free Events//EN
CALSCALE:GREGORIAN
METHOD:PUBLISH
BEGIN:VEVENT
UID:atp-madrid-open-final-2026-05-04@endorso.com
DTSTAMP:20260421T192304Z
DTSTART:20260504T163000Z
DTEND:20260504T183000Z
SUMMARY:ATP Madrid Open Men's Final (Watch Free with VPN)
DESCRIPTION:The culmination of two weeks of elite clay-court tennis. The world's best battle for the prestigious Madrid trophy and 1000 ranking points.\\n\\nFree on La 1 (Spain).\\n\\nFull guide: https://endorso.com/vpn/watch/atp-madrid-open-final-2026-05-04
URL:https://endorso.com/vpn/watch/atp-madrid-open-final-2026-05-04
LOCATION:https://endorso.com/vpn/watch/atp-madrid-open-final-2026-05-04
END:VEVENT
END:VCALENDAR