BEGIN:VCALENDAR
VERSION:2.0
PRODID:-//Endorso//Watch Free Events//EN
CALSCALE:GREGORIAN
METHOD:PUBLISH
BEGIN:VEVENT
UID:atp-madrid-open-final-2026-05-03@endorso.com
DTSTAMP:20260422T105323Z
DTSTART:20260503T163000Z
DTEND:20260503T183000Z
SUMMARY:ATP Madrid Open — Final (Watch Free with VPN)
DESCRIPTION:The culmination of the men's tournament in Madrid. The world's best clay-courters fight for the title in the Spanish capital.\\n\\nFree on La 1 (Spain).\\n\\nFull guide: https://endorso.com/vpn/watch/atp-madrid-open-final-2026-05-03
URL:https://endorso.com/vpn/watch/atp-madrid-open-final-2026-05-03
LOCATION:https://endorso.com/vpn/watch/atp-madrid-open-final-2026-05-03
END:VEVENT
END:VCALENDAR