BEGIN:VCALENDAR
VERSION:2.0
PRODID:-//Endorso//Watch Free Events//EN
CALSCALE:GREGORIAN
METHOD:PUBLISH
BEGIN:VEVENT
UID:atp-italian-open-round-1-2026-05-06@endorso.com
DTSTAMP:20260422T110651Z
DTSTART:20260506T090000Z
DTEND:20260506T110000Z
SUMMARY:ATP Italian Open — Round 1 (Watch Free with VPN)
DESCRIPTION:The clay court season moves to Rome for the Internazionali BNL d'Italia. Early round action features top seeds looking to adjust to the Foro Italico conditions.\\n\\nFree on RAI Play (Italy).\\n\\nFull guide: https://endorso.com/vpn/watch/atp-italian-open-round-1-2026-05-06
URL:https://endorso.com/vpn/watch/atp-italian-open-round-1-2026-05-06
LOCATION:https://endorso.com/vpn/watch/atp-italian-open-round-1-2026-05-06
END:VEVENT
END:VCALENDAR