BEGIN:VCALENDAR
VERSION:2.0
PRODID:-//Endorso//Watch Free Events//EN
CALSCALE:GREGORIAN
METHOD:PUBLISH
BEGIN:VEVENT
UID:argentine-primera-round-14-boca-juniors-vs-river-plate-2026-05-03@endorso.com
DTSTAMP:20260419T140740Z
DTSTART:20260503T190000Z
DTEND:20260503T210000Z
SUMMARY:Boca Juniors vs River Plate — Argentine Primera Round 14 (Watch Free with VPN)
DESCRIPTION:Argentine Primera match between Boca Juniors and River Plate. Superclásico\, one of the most intense derbies in the world\, always a must-watch.\\n\\nFree on TV Publica (Argentina).\\n\\nFull guide: https://endorso.com/vpn/watch/argentine-primera-round-14-boca-juniors-vs-river-plate-2026-05-03
URL:https://endorso.com/vpn/watch/argentine-primera-round-14-boca-juniors-vs-river-plate-2026-05-03
LOCATION:https://endorso.com/vpn/watch/argentine-primera-round-14-boca-juniors-vs-river-plate-2026-05-03
END:VEVENT
END:VCALENDAR