BEGIN:VCALENDAR
VERSION:2.0
PRODID:-//Endorso//Watch Free Events//EN
CALSCALE:GREGORIAN
METHOD:PUBLISH
BEGIN:VEVENT
UID:argentine-primera-river-plate-vs-racing-club-2026-05-04@endorso.com
DTSTAMP:20260425T030940Z
DTSTART:20260504T210000Z
DTEND:20260504T230000Z
SUMMARY:River Plate vs Racing Club — Argentine Primera (Watch Free with VPN)
DESCRIPTION:A classic 'Cinco Grandes' matchup at the Monumental. River Plate aims to extend their lead at the top of the Argentine league.\\n\\nFree on TV Publica (Argentina).\\n\\nFull guide: https://endorso.com/vpn/watch/argentine-primera-river-plate-vs-racing-club-2026-05-04
URL:https://endorso.com/vpn/watch/argentine-primera-river-plate-vs-racing-club-2026-05-04
LOCATION:https://endorso.com/vpn/watch/argentine-primera-river-plate-vs-racing-club-2026-05-04
END:VEVENT
END:VCALENDAR