BEGIN:VCALENDAR
VERSION:2.0
PRODID:-//Endorso//Watch Free Events//EN
CALSCALE:GREGORIAN
METHOD:PUBLISH
BEGIN:VEVENT
UID:argentine-primera-boca-juniors-vs-san-lorenzo-2026-05-09@endorso.com
DTSTAMP:20260425T161023Z
DTSTART:20260509T210000Z
DTEND:20260509T230000Z
SUMMARY:Boca Juniors vs San Lorenzo — Argentine Primera (Watch Free with VPN)
DESCRIPTION:The 'Clásico de los Grandes'. San Lorenzo historically holds a favorable record against Boca\, making this one of the most intense matches in Buenos Aires.\\n\\nFree on TV Publica (Argentina).\\n\\nFull guide: https://endorso.com/vpn/watch/argentine-primera-boca-juniors-vs-san-lorenzo-2026-05-09
URL:https://endorso.com/vpn/watch/argentine-primera-boca-juniors-vs-san-lorenzo-2026-05-09
LOCATION:https://endorso.com/vpn/watch/argentine-primera-boca-juniors-vs-san-lorenzo-2026-05-09
END:VEVENT
END:VCALENDAR